BEGIN:VCALENDAR
VERSION:2.0
PRODID:-//CFIA - ECPv6.15.20//NONSGML v1.0//EN
CALSCALE:GREGORIAN
METHOD:PUBLISH
X-ORIGINAL-URL:https://cfia.or.cr/site
X-WR-CALDESC:Eventos para CFIA
REFRESH-INTERVAL;VALUE=DURATION:PT1H
X-Robots-Tag:noindex
X-PUBLISHED-TTL:PT1H
BEGIN:VTIMEZONE
TZID:America/Costa_Rica
BEGIN:STANDARD
TZOFFSETFROM:-0600
TZOFFSETTO:-0600
TZNAME:CST
DTSTART:20250101T000000
END:STANDARD
END:VTIMEZONE
BEGIN:VEVENT
DTSTART;TZID=America/Costa_Rica:20260101T090000
DTEND;TZID=America/Costa_Rica:20270726T170000
DTSTAMP:20260419T093348
CREATED:20241031T174455Z
LAST-MODIFIED:20260113T173557Z
UID:10000187-1767258000-1816621200@cfia.or.cr
SUMMARY:Curso asincrónico: APC 2024
DESCRIPTION:Curso asincrónico: APC 2024 \n🕘 Horario: habilitado 24/7 \n📡 Modalidad: virtual asincrónico \n💻 Plataforma: CAMPUS EDUCATIVO VIRTUAL-CFIA \n💰Inversión: GRATUITO \nConsultas dirigirse: educacionvirtual@cfia.cr \nEnlace de inscripción: https://cfia.aurainteractiva.com/local/payment_plugin/index.php
URL:https://cfia.or.cr/site/capacitacion/curso-asincronico-apc-2024/
CATEGORIES:CFIA-CENDEPRO
ATTACH;FMTTYPE=image/png:https://cfia.or.cr/site/wp-content/uploads/2024/10/Cursos-APC-Cendepro-01.png
ORGANIZER;CN="CENDEPRO":MAILTO:educacionvirtual@cfia.cr
LOCATION:
END:VEVENT
BEGIN:VEVENT
DTSTART;VALUE=DATE:20260105
DTEND;VALUE=DATE:20270105
DTSTAMP:20260419T093348
CREATED:20241031T175343Z
LAST-MODIFIED:20260224T221438Z
UID:10000099-1767571200-1799107199@cfia.or.cr
SUMMARY:¡Únete a Nuestros Cursos Virtuales!
DESCRIPTION:¡Únete a Nuestros Cursos Virtuales! \nNos complace invitarlos cordialmente a participar en nuestros cursos virtuales\, diseñados para enriquecer sus conocimientos y habilidades en diversas áreas. \nConsultas dirigirse: educacionvirtual@cfia.cr \nEnlace de inscripción: https://cfia.aurainteractiva.com/local/payment_plugin/index.php
URL:https://cfia.or.cr/site/capacitacion/unete-a-nuestros-cursos-virtuales/
CATEGORIES:CFIA-CENDEPRO
ATTACH;FMTTYPE=image/jpeg:https://cfia.or.cr/site/wp-content/uploads/2024/10/Cursos-BLANDAS.jpg
END:VEVENT
BEGIN:VEVENT
DTSTART;VALUE=DATE:20260105
DTEND;VALUE=DATE:20270101
DTSTAMP:20260419T093348
CREATED:20250115T153337Z
LAST-MODIFIED:20260224T220240Z
UID:10000177-1767571200-1798761599@cfia.or.cr
SUMMARY:Uso de la Bitácora digital
DESCRIPTION:Uso de la Bitácora digital \n🕘 Horario: habilitado 24/7 \n📡 Modalidad: virtual asincrónico \n💻 Plataforma: CAMPUS EDUCATIVO VIRTUAL-CFIA \n💰Inversión: GRATUITO \nConsultas dirigirse: educacionvirtual@cfia.cr \nEnlace de inscripción: https://cfia.aurainteractiva.com/local/payment_plugin/index.php
URL:https://cfia.or.cr/site/capacitacion/uso-de-la-bitacora-digital/
CATEGORIES:CFIA-CENDEPRO
ATTACH;FMTTYPE=image/jpeg:https://cfia.or.cr/site/wp-content/uploads/2025/01/Cendepro-Bitacora-Digital-scaled.jpg
END:VEVENT
BEGIN:VEVENT
DTSTART;TZID=America/Costa_Rica:20260310T180000
DTEND;TZID=America/Costa_Rica:20260421T210000
DTSTAMP:20260419T093348
CREATED:20260127T133046Z
LAST-MODIFIED:20260127T133046Z
UID:10000820-1773165600-1776805200@cfia.or.cr
SUMMARY:Reajustes de Precios en Obras y Revisión de Precios de Bienes y Servicios
DESCRIPTION:ACIC le invita a su próximo curso. \nAsegure su espacio aquí: https://www.citec.or.cr/event/reajustes-de-precios-en-obras-y-revision-de-precios-de-bienes-y-servicios/
URL:https://cfia.or.cr/site/capacitacion/reajustes-de-precios-en-obras-y-revision-de-precios-de-bienes-y-servicios/
CATEGORIES:CITEC
ATTACH;FMTTYPE=image/jpeg:https://cfia.or.cr/site/wp-content/uploads/2026/01/ACIC-DISENO-CURSO-REAJUSTE-DE-PRECIOS.jpg
ORGANIZER;CN="ACIC":MAILTO:magdalena.zuniga@acic.or.cr
END:VEVENT
BEGIN:VEVENT
DTSTART;TZID=America/Costa_Rica:20260327T090000
DTEND;TZID=America/Costa_Rica:20260420T233000
DTSTAMP:20260419T093348
CREATED:20260324T222231Z
LAST-MODIFIED:20260324T222231Z
UID:10000928-1774602000-1776727800@cfia.or.cr
SUMMARY:📌Módulo 1-Introducción y Reglamentación CFIA del Programa de actualización de Fiscalizadores de Inversión en Vivienda de Interés Social
DESCRIPTION:📅 Disponibilidad del módulo: del 27 de marzo al 20 de abril de 2026 \n🕘 Horario de disponibilidad del módulo: 24 horas \n💻 Plataforma: CAMPUS EDUCATIVO VIRTUAL CFIA \n🖥️ Disponibilidad del Foro: 27 de marzo al 14 de abril \n💰 Inversión: ₡55\,000 ivai. \n🔗 Inscripción Aquí 
URL:https://cfia.or.cr/site/capacitacion/%f0%9f%93%8cmodulo-1-introduccion-y-reglamentacion-cfia-del-programa-de-actualizacion-de-fiscalizadores-de-inversion-en-vivienda-de-interes-social/
CATEGORIES:CFIA-CENDEPRO
ATTACH;FMTTYPE=image/jpeg:https://cfia.or.cr/site/wp-content/uploads/2026/03/Afiche-Modulo-1-Marzo-27.jpg
ORGANIZER;CN="CENDEPRO":MAILTO:cendepro@cfia.cr
LOCATION:https://cfia.or.cr/site/capacitacion/%f0%9f%93%8cmodulo-1-introduccion-y-reglamentacion-cfia-del-programa-de-actualizacion-de-fiscalizadores-de-inversion-en-vivienda-de-interes-social/
END:VEVENT
BEGIN:VEVENT
DTSTART;TZID=America/Costa_Rica:20260413T170000
DTEND;TZID=America/Costa_Rica:20260421T210000
DTSTAMP:20260419T093348
CREATED:20260220T133538Z
LAST-MODIFIED:20260220T133538Z
UID:10000852-1776099600-1776805200@cfia.or.cr
SUMMARY:Diseño de Instalaciones de Gas LP
DESCRIPTION:📢✨ ¡Estos son los cursos y actividades que ACIMA tiene preparados para los próximos meses! ✨📢 \nLos invitamos cordialmente a participar\, capacitarse y actualizar sus conocimientos con ACIMA. 🙌📚 \n✅ Informes e Inscripciones al correo: cursosyeventos@acimacr.com\n📲 O bien\, vía WhatsApp: +506 8852 2462 \n¡No te pierdas esta oportunidad de seguir creciendo con ACIMA! 🚀
URL:https://cfia.or.cr/site/capacitacion/diseno-de-instalaciones-de-gas-lp/
CATEGORIES:CITEC
ATTACH;FMTTYPE=image/jpeg:https://cfia.or.cr/site/wp-content/uploads/2026/02/ACIMA-Curso-Diseno-instalac.-GLP-abr-26.jpg
ORGANIZER;CN="ACIMA":MAILTO:cursosyeventos@acimacr.com
END:VEVENT
BEGIN:VEVENT
DTSTART;TZID=America/Costa_Rica:20260416T180000
DTEND;TZID=America/Costa_Rica:20260514T210000
DTSTAMP:20260419T093348
CREATED:20260407T163916Z
LAST-MODIFIED:20260407T163916Z
UID:10000958-1776362400-1778792400@cfia.or.cr
SUMMARY:Curso II: Taller de Diseño de Instalaciones Eléctricas Residenciales
DESCRIPTION:Objetivo:  Aplicar los criterios de diseño de las instalaciones eléctricas de la vivienda unifamiliar\, cumpliendo con el Decreto del Código Eléctrico de Costa Rica para la Seguridad de la Vida y la Propiedad (CECR)\, así como las normativas vigentes. \nRealice su inscripción aquí: https://www.citec.or.cr/event/curso-ii-taller-de-diseno-de-instalaciones-electricas-residenciales/
URL:https://cfia.or.cr/site/capacitacion/curso-ii-taller-de-diseno-de-instalaciones-electricas-residenciales/
CATEGORIES:CITEC
ATTACH;FMTTYPE=image/jpeg:https://cfia.or.cr/site/wp-content/uploads/2026/04/ACIC-Curso-II.jpg
ORGANIZER;CN="ACIC":MAILTO:magdalena.zuniga@acic.or.cr
END:VEVENT
BEGIN:VEVENT
DTSTART;TZID=America/Costa_Rica:20260419T080000
DTEND;TZID=America/Costa_Rica:20260419T170000
DTSTAMP:20260419T093348
CREATED:20260326T222838Z
LAST-MODIFIED:20260326T223522Z
UID:10000945-1776585600-1776618000@cfia.or.cr
SUMMARY:"Suma tu Voz"
DESCRIPTION:¿Tenés 5 minutos? Podés convertirlos en ₡250\,000 💰 \nCon “Suma tu voz”\, tu opinión como profesional en ingeniería civil cuenta… y se recompensa. \n✔️ Rápido\n✔️ Fácil\n✔️ Con impacto real \nCompletá la encuesta y participá por el sorteo de ₡250 mil. \n👉 Sumá tu voz ahora \nCompletá la encuesta en el siguiente enlace: https://civiles.fillout.com/t/u6vQQdmY3Hus
URL:https://cfia.or.cr/site/capacitacion/suma-tu-voz/
CATEGORIES:CIC
ATTACH;FMTTYPE=image/jpeg:https://cfia.or.cr/site/wp-content/uploads/2026/03/Encuesta-scaled.jpg
END:VEVENT
BEGIN:VEVENT
DTSTART;TZID=America/Costa_Rica:20260420T170000
DTEND;TZID=America/Costa_Rica:20260420T200000
DTSTAMP:20260419T093348
CREATED:20260326T165119Z
LAST-MODIFIED:20260326T165119Z
UID:10000938-1776704400-1776715200@cfia.or.cr
SUMMARY:Certificación Six Sigma Yellow Belt
DESCRIPTION:Más información
URL:https://cfia.or.cr/site/capacitacion/certificacion-six-sigma-yellow-belt/
CATEGORIES:CIEMI
ATTACH;FMTTYPE=image/jpeg:https://cfia.or.cr/site/wp-content/uploads/2026/03/yellow-CIEMI.jpg
END:VEVENT
BEGIN:VEVENT
DTSTART;TZID=America/Costa_Rica:20260421T080000
DTEND;TZID=America/Costa_Rica:20260421T170000
DTSTAMP:20260419T093348
CREATED:20260323T172252Z
LAST-MODIFIED:20260323T190353Z
UID:10000920-1776758400-1776790800@cfia.or.cr
SUMMARY:Curso NFPA 101: Código de Seguridad Humana
DESCRIPTION:Inscríbase  \nPrograma
URL:https://cfia.or.cr/site/capacitacion/curso-nfpa-101-codigo-de-seguridad-humana/
LOCATION:CCIEMI\, Residencial La Alameda\, contiguo al CFIA\, San José\, 11801\, Costa Rica
CATEGORIES:CIEMI
ATTACH;FMTTYPE=image/png:https://cfia.or.cr/site/wp-content/uploads/2026/03/FB-info.png
END:VEVENT
BEGIN:VEVENT
DTSTART;TZID=America/Costa_Rica:20260421T180000
DTEND;TZID=America/Costa_Rica:20260421T190000
DTSTAMP:20260419T093348
CREATED:20260320T205007Z
LAST-MODIFIED:20260320T205025Z
UID:10000919-1776794400-1776798000@cfia.or.cr
SUMMARY:Webinar- Comunicación que genera resultados: herramientas prácticas para escuchar\, entender y conectar mejor
DESCRIPTION:Participe en nuestro próximo webinar gratuito. \nRealice su inscripción aquí: https://www.citec.or.cr/event/webinar-comunicacion-que-genera-resultados-herramientas-practicas-para-escuchar-entender-y-conectar-mejor/
URL:https://cfia.or.cr/site/capacitacion/webinar-comunicacion-que-genera-resultados-herramientas-practicas-para-escuchar-entender-y-conectar-mejor/
CATEGORIES:CITEC
ATTACH;FMTTYPE=image/jpeg:https://cfia.or.cr/site/wp-content/uploads/2026/03/CITEC-Webinar-comunicacion-que-genera-resultados.jpg
ORGANIZER;CN="CITEC":MAILTO:citeccomunicacionyeventos@cfia.or.cr
END:VEVENT
BEGIN:VEVENT
DTSTART;TZID=America/Costa_Rica:20260421T180000
DTEND;TZID=America/Costa_Rica:20260421T210000
DTSTAMP:20260419T093348
CREATED:20260324T221547Z
LAST-MODIFIED:20260325T204330Z
UID:10000926-1776794400-1776805200@cfia.or.cr
SUMMARY:Curso: Diseño mecanístico-empírico para pavimentos flexibles y semirrígidos GDP-2024
DESCRIPTION:Curso virtual sincrónico de aprovechamiento. \nProfesor: Ing. Eliécer Arias Barrantes\, M.Sc\nInicio: Martes 21 de abril del 2026.\nFinalización: Jueves 21 de mayo del 2026.\nDuración: 30 horas\nFecha límite para matricular: Lunes 20 de abril del 2026. CUPO LIMITADO \nHorario: 6pm a 9pm (K y J) 21\, 23\, 28 y 30 de abril; 05\, 07\, 12\, 14\, 19 y 21 de mayo del 2026.\nDirigido a: Estudiantes avanzados y profesionales de Ingeniería Civil\, Ingenieros en Construcción y Arquitectos.\nIncluye: Material de apoyo digital\, certificado de aprobación del curso\nInversión: ¢60.000.00 IVAI \nInscripciones aquí
URL:https://cfia.or.cr/site/capacitacion/modulo-i-diseno-mecanistico-empirico-para-pavimentos-flexibles-y-semirrigidos-gdp-2024/
CATEGORIES:CIC
ATTACH;FMTTYPE=image/jpeg:https://cfia.or.cr/site/wp-content/uploads/2026/03/Post.jpg
LOCATION:
END:VEVENT
BEGIN:VEVENT
DTSTART;TZID=America/Costa_Rica:20260422T160000
DTEND;TZID=America/Costa_Rica:20260422T160000
DTSTAMP:20260419T093348
CREATED:20260309T214148Z
LAST-MODIFIED:20260309T214148Z
UID:10000887-1776873600-1776873600@cfia.or.cr
SUMMARY:Webinar Gratuito: Contenido para redes sociales utilizando la IA enfocado en negocios de Ingeniería y Arquitectura
DESCRIPTION:Webinar Gratuito: Contenido para redes sociales utilizando la IA enfocado en negocios de Ingeniería y Arquitectura \nEnlace de inscripción: https://forms.gle/KVDu7y1nxD5hbzF27
URL:https://cfia.or.cr/site/capacitacion/webinar-gratuito-contenido-para-redes-sociales-utilizando-la-ia-enfocado-en-negocios-de-ingenieria-y-arquitectura/
CATEGORIES:Oficinas Regionales
ATTACH;FMTTYPE=image/webp:https://cfia.or.cr/site/wp-content/uploads/2026/03/Contenido-para-redes-sociales-WEB-scaled.webp
END:VEVENT
BEGIN:VEVENT
DTSTART;TZID=America/Costa_Rica:20260423T190000
DTEND;TZID=America/Costa_Rica:20260423T200000
DTSTAMP:20260419T093348
CREATED:20260309T142252Z
LAST-MODIFIED:20260309T142252Z
UID:10000884-1776970800-1776974400@cfia.or.cr
SUMMARY:Webinar "Base de Datos para la toma de Decisiones"
DESCRIPTION:Con este webinar\, las personas participantes podrán conocer reglas básicas de cómo hacer bases de datos sencillas\, en Excel\, que estén relacionadas con su trabajo cotidiano\, que les permita en un futuro generar tableros de toma de decisiones. \nTodo buen tablero\, empieza con una buena base de datos. \nRealice la inscripción aquí: https://www.citec.or.cr/event/webinar-base-de-datos-para-la-toma-de-decisiones/
URL:https://cfia.or.cr/site/capacitacion/webinar-base-de-datos-para-la-toma-de-decisiones/
CATEGORIES:CITEC
ATTACH;FMTTYPE=image/jpeg:https://cfia.or.cr/site/wp-content/uploads/2026/03/ACIC-Webinar-Base-de-Datos.jpg
ORGANIZER;CN="ACIC":MAILTO:magdalena.zuniga@acic.or.cr
END:VEVENT
BEGIN:VEVENT
DTSTART;TZID=America/Costa_Rica:20260424T043000
DTEND;TZID=America/Costa_Rica:20260424T060000
DTSTAMP:20260419T093348
CREATED:20260406T221641Z
LAST-MODIFIED:20260406T221641Z
UID:10000957-1777005000-1777010400@cfia.or.cr
SUMMARY:New technologies for disaster risk prevention and mitigation
DESCRIPTION:🌍 WFEO invites you to participate in the conference.  New technologies for disaster risk prevention and mitigation \n🔗 Register at the following link \n👉 https://us06web.zoom.us/webinar/register/WN_hAGB7URTTT29IukuOJuVSw#/registration \n📅 Viernes 24 de abril\n🕛 12:00 – 1:30 p.m. CEST (UTC+2\, horario de verano en Europa) /  Costa Rica: 4:00 a.m. – 5:30 a.m. \n📅 ¡Save the day! \nWFEO CDRM Webinar “New technologies for disaster risk prevention and mitigation” – WFEO
URL:https://cfia.or.cr/site/capacitacion/new-technologies-for-disaster-risk-prevention-and-mitigation/
CATEGORIES:CFIA-CENDEPRO
ATTACH;FMTTYPE=image/png:https://cfia.or.cr/site/wp-content/uploads/2026/04/CDRM_Webinar_2026-04-24.png
END:VEVENT
BEGIN:VEVENT
DTSTART;TZID=America/Costa_Rica:20260427T100000
DTEND;TZID=America/Costa_Rica:20260427T110000
DTSTAMP:20260419T093348
CREATED:20260326T204616Z
LAST-MODIFIED:20260326T204616Z
UID:10000943-1777284000-1777287600@cfia.or.cr
SUMMARY:Water Quantity vs. Quality\, Regulations and Technological Innovations
DESCRIPTION:🌍 El Consejo Mundial de Ingenieros Civiles\, WCCE siglas en inglés invita al webinar “Water Quantity vs. Quality\, Regulations and Technological Innovations” \n🔗 Regístrese en el siguiente enlace:\n👉 https://us02web.zoom.us/webinar/register/WN_i9vLxLY4S5GKLtpjg1sx5w \n📅 ¡Reserve su espacio! \n 
URL:https://cfia.or.cr/site/capacitacion/water-quantity-vs-quality-regulations-and-technological-innovations/
CATEGORIES:CFIA-CENDEPRO
ATTACH;FMTTYPE=image/jpeg:https://cfia.or.cr/site/wp-content/uploads/2026/03/WCCE32-scaled.jpg
END:VEVENT
BEGIN:VEVENT
DTSTART;TZID=America/Costa_Rica:20260427T160000
DTEND;TZID=America/Costa_Rica:20260427T160000
DTSTAMP:20260419T093348
CREATED:20260406T202600Z
LAST-MODIFIED:20260406T202600Z
UID:10000955-1777305600-1777305600@cfia.or.cr
SUMMARY:Webinar Gratuito: Generalidades de SICOP para proveedores
DESCRIPTION:Webinar Gratuito: Generalidades de SICOP para proveedores  \nEnlace de inscripción:https://forms.gle/WcT75717Fq1Cm2Ze9
URL:https://cfia.or.cr/site/capacitacion/webinar-gratuito-generalidades-de-sicop-para-proveedores/
CATEGORIES:Oficinas Regionales
ATTACH;FMTTYPE=image/webp:https://cfia.or.cr/site/wp-content/uploads/2026/04/Generalidades-de-SICOP-WEB-scaled.webp
END:VEVENT
BEGIN:VEVENT
DTSTART;TZID=America/Costa_Rica:20260427T170000
DTEND;TZID=America/Costa_Rica:20260505T210000
DTSTAMP:20260419T093348
CREATED:20260220T134032Z
LAST-MODIFIED:20260220T134032Z
UID:10000853-1777309200-1778014800@cfia.or.cr
SUMMARY:Valoración de Maquinaria para la Industria y la Construcción
DESCRIPTION:📢✨ ¡Estos son los cursos y actividades que ACIMA tiene preparados para los próximos meses! ✨📢 \nLos invitamos cordialmente a participar\, capacitarse y actualizar sus conocimientos con ACIMA. 🙌📚 \n✅ Informes e Inscripciones al correo: cursosyeventos@acimacr.com\n📲 O bien\, vía WhatsApp: +506 8852 2462 \n¡No te pierdas esta oportunidad de seguir creciendo con ACIMA! 🚀
URL:https://cfia.or.cr/site/capacitacion/valoracion-de-maquinaria-para-la-industria-y-la-construccion/
CATEGORIES:CITEC
ATTACH;FMTTYPE=image/jpeg:https://cfia.or.cr/site/wp-content/uploads/2026/02/ACIMA-Curso-Valoracion-Maquinaria-abr-26.jpg
ORGANIZER;CN="ACIMA":MAILTO:cursosyeventos@acimacr.com
END:VEVENT
BEGIN:VEVENT
DTSTART;TZID=America/Costa_Rica:20260427T180000
DTEND;TZID=America/Costa_Rica:20260427T210000
DTSTAMP:20260419T093348
CREATED:20260326T165223Z
LAST-MODIFIED:20260326T165223Z
UID:10000939-1777312800-1777323600@cfia.or.cr
SUMMARY:Programa Excel Completo\, básico\, intermedio y avanzado
DESCRIPTION:Más información
URL:https://cfia.or.cr/site/capacitacion/programa-excel-completo-basico-intermedio-y-avanzado/
CATEGORIES:CIEMI
ATTACH;FMTTYPE=image/jpeg:https://cfia.or.cr/site/wp-content/uploads/2026/03/excel-completo-abril.jpg
END:VEVENT
BEGIN:VEVENT
DTSTART;TZID=America/Costa_Rica:20260428T083000
DTEND;TZID=America/Costa_Rica:20260519T100000
DTSTAMP:20260419T093348
CREATED:20260406T170053Z
LAST-MODIFIED:20260406T170053Z
UID:10000949-1777365000-1779184800@cfia.or.cr
SUMMARY:Curso: Chi Kung - Tai Chi
DESCRIPTION:📢✨ ¡Estos son los cursos y actividades que ACIMA tiene preparados para los próximos meses! ✨📢 \nLos invitamos cordialmente a participar\, capacitarse y actualizar sus conocimientos con ACIMA. 🙌📚 \n✅ Informes e Inscripciones al correo: cursosyeventos@acimacr.com\n📲 O bien\, vía WhatsApp: +506 8852 2462 \n¡No te pierdas esta oportunidad de seguir creciendo con ACIMA! 🚀
URL:https://cfia.or.cr/site/capacitacion/curso-chi-kung-tai-chi-2/
CATEGORIES:CITEC
ATTACH;FMTTYPE=image/jpeg:https://cfia.or.cr/site/wp-content/uploads/2026/04/ACIMA-Curso-Tai-Chi-may-26.jpg
ORGANIZER;CN="ACIMA":MAILTO:cursosyeventos@acimacr.com
END:VEVENT
BEGIN:VEVENT
DTSTART;TZID=America/Costa_Rica:20260428T130000
DTEND;TZID=America/Costa_Rica:20260428T200000
DTSTAMP:20260419T093348
CREATED:20260326T164149Z
LAST-MODIFIED:20260326T164149Z
UID:10000934-1777381200-1777406400@cfia.or.cr
SUMMARY:Seminario IngenierIA y sus Aplicaciones en la Industria 5.0
DESCRIPTION:Inscríbase
URL:https://cfia.or.cr/site/capacitacion/seminario-ingenieria-y-sus-aplicaciones-en-la-industria-5-0/
LOCATION:Auditorio del CFIA
CATEGORIES:CIEMI
ATTACH;FMTTYPE=image/png:https://cfia.or.cr/site/wp-content/uploads/2026/03/FB-35.png
END:VEVENT
BEGIN:VEVENT
DTSTART;TZID=America/Costa_Rica:20260428T180000
DTEND;TZID=America/Costa_Rica:20260428T210000
DTSTAMP:20260419T093348
CREATED:20260324T222112Z
LAST-MODIFIED:20260325T204228Z
UID:10000927-1777399200-1777410000@cfia.or.cr
SUMMARY:Curso: Tecnología de la Madera en el Diseño Estructural
DESCRIPTION:Curso Virtual Sincrónico \nProfesor: Ing. Juan Tuk Duran \nFecha de inicio:  Martes 28 de abril del 2026. \nFecha de finalización: Martes 12 de mayo del 2026. \nHorario: (K y J) 28 y 30 de abril; 05\, 07 y 12 de mayo del 2026 de 6 pm a 9pm. \nDirigido a: Ingeniero Civiles\, Ingenieros en Construcción\, Arquitectos\, Restauradores y Constructores de estructuras con madera \nInversión: ₡60.000.00 IVAI \nInscripciones aquí
URL:https://cfia.or.cr/site/capacitacion/curso-tecnologia-de-la-madera-en-el-diseno-estructural/
CATEGORIES:CIC
ATTACH;FMTTYPE=image/jpeg:https://cfia.or.cr/site/wp-content/uploads/2026/03/maderas.jpg
END:VEVENT
BEGIN:VEVENT
DTSTART;TZID=America/Costa_Rica:20260428T180000
DTEND;TZID=America/Costa_Rica:20260513T210000
DTSTAMP:20260419T093348
CREATED:20260220T133210Z
LAST-MODIFIED:20260220T133210Z
UID:10000851-1777399200-1778706000@cfia.or.cr
SUMMARY:Facility Management: Gestión de Mantenimiento y Servicios en Edificios e Infraestructura
DESCRIPTION:📢✨ ¡Estos son los cursos y actividades que ACIMA tiene preparados para los próximos meses! ✨📢 \nLos invitamos cordialmente a participar\, capacitarse y actualizar sus conocimientos con ACIMA. 🙌📚 \n✅ Informes e Inscripciones al correo: cursosyeventos@acimacr.com\n📲 O bien\, vía WhatsApp: +506 8852 2462 \n¡No te pierdas esta oportunidad de seguir creciendo con ACIMA! 🚀
URL:https://cfia.or.cr/site/capacitacion/facility-management-gestion-de-mantenimiento-y-servicios-en-edificios-e-infraestructura/
CATEGORIES:CITEC
ATTACH;FMTTYPE=image/jpeg:https://cfia.or.cr/site/wp-content/uploads/2026/02/ACIMA-Curso-Facility-Management-abr-26.jpg
ORGANIZER;CN="ACIMA":MAILTO:cursosyeventos@acimacr.com
END:VEVENT
BEGIN:VEVENT
DTSTART;TZID=America/Costa_Rica:20260428T183000
DTEND;TZID=America/Costa_Rica:20260428T193000
DTSTAMP:20260419T093348
CREATED:20260417T221703Z
LAST-MODIFIED:20260417T221703Z
UID:10000971-1777401000-1777404600@cfia.or.cr
SUMMARY:Trabajos en altura\, factores fundamentales
DESCRIPTION:ACISLHA le invita a formar parte de su próxima conferencia gratuita. \nRealice su inscripción aquí: https://www.citec.or.cr/event/trabajos-en-altura-factores-fundamentales/
URL:https://cfia.or.cr/site/capacitacion/trabajos-en-altura-factores-fundamentales/
CATEGORIES:CITEC
ATTACH;FMTTYPE=image/jpeg:https://cfia.or.cr/site/wp-content/uploads/2026/04/ACISLHA-Trabajos-de-Altura.jpg
ORGANIZER;CN="ACISLHA":MAILTO:citeccomunicacionyeventos@cfia.or.cr
END:VEVENT
BEGIN:VEVENT
DTSTART;TZID=America/Costa_Rica:20260504T180000
DTEND;TZID=America/Costa_Rica:20260504T210000
DTSTAMP:20260419T093348
CREATED:20260413T223656Z
LAST-MODIFIED:20260413T223656Z
UID:10000965-1777917600-1777928400@cfia.or.cr
SUMMARY:Sistemas Individuales para el tratamiento de aguas residuales domésticas
DESCRIPTION:Curso virtual\, sincrónico de participación \nPlataforma Zoom \nProfesor: Ing. Elías Rosales Escalante  \nFecha de inicio: Lunes 04 de mayo\, 2026 \nFecha de finalización: Miércoles 13 de mayo\, 2026 \nHorario: (Ly M) 04\, 06\, 11 y 13 de mayo del 2026 de  6pm a 9pm \nDuración: 4 lecciones (12 horas) \nFecha límite para matricular: Sábado 02 de mayo del 2026. \nDirigido a: Ingenieros Civiles\, Ingenieros en Construcción o Arquitectos \nMatricula aquí
URL:https://cfia.or.cr/site/capacitacion/sistemas-individuales-para-el-tratamiento-de-aguas-residuales-domesticas/
CATEGORIES:CIC
ATTACH;FMTTYPE=image/jpeg:https://cfia.or.cr/site/wp-content/uploads/2026/04/AGUAS-DOMESTICAS.jpg
END:VEVENT
BEGIN:VEVENT
DTSTART;TZID=America/Costa_Rica:20260505T060000
DTEND;TZID=America/Costa_Rica:20260514T210000
DTSTAMP:20260419T093348
CREATED:20260220T135730Z
LAST-MODIFIED:20260220T135730Z
UID:10000855-1777960800-1778792400@cfia.or.cr
SUMMARY:Curso Buenas Prácticas en el Diseño y Construcción de Pavimentos Rígidos
DESCRIPTION:La Asociación de Ingeniería en Construcción le invita a su próximo curso. \nRealice su inscripción aquí: https://www.citec.or.cr/event/curso-buenas-practicas-en-el-diseno-y-construccion-de-pavimentos-rigidos/
URL:https://cfia.or.cr/site/capacitacion/curso-buenas-practicas-en-el-diseno-y-construccion-de-pavimentos-rigidos/
CATEGORIES:CITEC
ATTACH;FMTTYPE=image/jpeg:https://cfia.or.cr/site/wp-content/uploads/2026/02/ACIC-DISENO-CURSO-PAVIMENTOS-RIGIDOS.jpg
END:VEVENT
BEGIN:VEVENT
DTSTART;TZID=America/Costa_Rica:20260505T180000
DTEND;TZID=America/Costa_Rica:20260505T180000
DTSTAMP:20260419T093348
CREATED:20260406T202739Z
LAST-MODIFIED:20260406T202739Z
UID:10000956-1778004000-1778004000@cfia.or.cr
SUMMARY:Webinar Gratuito: Ductobarras (Busway) Aplicaciones y Normativa
DESCRIPTION:Webinar Gratuito: Ductobarras (Busway) Aplicaciones y Normativa  \nEnlace de inscripción: https://forms.gle/rWsPMya1xEjKXkoo9 
URL:https://cfia.or.cr/site/capacitacion/webinar-gratuito-ductobarras-busway-aplicaciones-y-normativa/
CATEGORIES:Oficinas Regionales
ATTACH;FMTTYPE=image/webp:https://cfia.or.cr/site/wp-content/uploads/2026/04/Ductobarras-WEB-scaled.webp
END:VEVENT
BEGIN:VEVENT
DTSTART;TZID=America/Costa_Rica:20260505T180000
DTEND;TZID=America/Costa_Rica:20260505T210000
DTSTAMP:20260419T093348
CREATED:20260326T165650Z
LAST-MODIFIED:20260326T165650Z
UID:10000940-1778004000-1778014800@cfia.or.cr
SUMMARY:Curso CAPDEE-M3:Criterios de diseño desde el punto de vista de corrientes de cortocircuito
DESCRIPTION:Inscríbase  \nPrograma
URL:https://cfia.or.cr/site/capacitacion/curso-capdee-m3criterios-de-diseno-desde-el-punto-de-vista-de-corrientes-de-cortocircuito/
CATEGORIES:CIEMI
ATTACH;FMTTYPE=image/png:https://cfia.or.cr/site/wp-content/uploads/2026/01/CursoCAPDEE-M3.png
END:VEVENT
BEGIN:VEVENT
DTSTART;TZID=America/Costa_Rica:20260506T170000
DTEND;TZID=America/Costa_Rica:20260518T193000
DTSTAMP:20260419T093348
CREATED:20260407T164814Z
LAST-MODIFIED:20260407T164814Z
UID:10000959-1778086800-1779132600@cfia.or.cr
SUMMARY:Principios de Aseguramiento en la Valuación de Inmuebles
DESCRIPTION:La Comisión de Valuación del CITEC\, le invita a su próximo curso. \nRealice su inscripción aquí: https://www.citec.or.cr/event/principios-de-aseguramiento-en-la-valuacion-de-inmuebles/
URL:https://cfia.or.cr/site/capacitacion/principios-de-aseguramiento-en-la-valuacion-de-inmuebles/
CATEGORIES:CITEC
ATTACH;FMTTYPE=image/jpeg:https://cfia.or.cr/site/wp-content/uploads/2026/04/Afiche-Invitacion.jpg
ORGANIZER;CN="Valuaci%C3%B3n":MAILTO:citeccomunicacionyeventos@cfia.or.cr
END:VEVENT
BEGIN:VEVENT
DTSTART;TZID=America/Costa_Rica:20260506T180000
DTEND;TZID=America/Costa_Rica:20260506T190000
DTSTAMP:20260419T093348
CREATED:20260325T215811Z
LAST-MODIFIED:20260325T215811Z
UID:10000932-1778090400-1778094000@cfia.or.cr
SUMMARY:Webinar Buenas Prácticas en Refrigeración\, Aire Acondicionado\, y Manipulación de Refrigerantes HCFC\, HFC\, HFO\, HC
DESCRIPTION:📢✨ ¡Estos son los cursos y actividades que ACIMA tiene preparados para los próximos meses! ✨📢 \nLos invitamos cordialmente a participar\, capacitarse y actualizar sus conocimientos con ACIMA. 🙌📚 \n✅ Informes e Inscripciones al correo: cursosyeventos@acimacr.com\n📲 O bien\, vía WhatsApp: +506 8852 2462 \n¡No te pierdas esta oportunidad de seguir creciendo con ACIMA! 🚀
URL:https://cfia.or.cr/site/capacitacion/webinar-buenas-practicas-en-refrigeracion-aire-acondicionado-y-manipulacion-de-refrigerantes-hcfc-hfc-hfo-hc/
CATEGORIES:CITEC
ATTACH;FMTTYPE=image/jpeg:https://cfia.or.cr/site/wp-content/uploads/2026/03/ACIMA-Webinar-Buenas-practicas-refrigeracion-6-may-26.jpg
ORGANIZER;CN="ACIMA":MAILTO:cursosyeventos@acimacr.com
END:VEVENT
END:VCALENDAR